BEGIN:VCALENDAR
VERSION:2.0
PRODID:-//MisionesCC - ECPv5.0.3.1//NONSGML v1.0//EN
CALSCALE:GREGORIAN
METHOD:PUBLISH
X-WR-CALNAME:MisionesCC
X-ORIGINAL-URL:https://www.misionescc.com.ar
X-WR-CALDESC:Eventos para MisionesCC
BEGIN:VTIMEZONE
TZID:America/Argentina/Cordoba
BEGIN:STANDARD
TZOFFSETFROM:-0300
TZOFFSETTO:-0300
TZNAME:-03
DTSTART:20200101T000000
END:STANDARD
END:VTIMEZONE
BEGIN:VEVENT
DTSTART;TZID=America/Argentina/Cordoba:20201003T180000
DTEND;TZID=America/Argentina/Cordoba:20201003T200000
DTSTAMP:20260419T130135
CREATED:20191220T134131Z
LAST-MODIFIED:20201201T202301Z
UID:2818-1601748000-1601755200@www.misionescc.com.ar
SUMMARY:MISIONEROS EN CAMINO - VIDEOLLAMADA ZOOM
DESCRIPTION:Los primeros 100 preinscriptos podran participar de la entrevista por Zoom con el pastor  Boris Masalyka con el tema «El Pastor en las Misiones» \n \n  \n  \n
URL:https://www.misionescc.com.ar/eventos/misioneros-en-camino/
END:VEVENT
END:VCALENDAR